BEGIN:VCALENDAR
VERSION:2.0
PRODID:-//wp-events-plugin.com//7.2.3.1//EN
TZID:America/New_York
X-WR-TIMEZONE:America/New_York
BEGIN:VEVENT
UID:668@debtcollective.org
DTSTART;TZID=America/New_York:20260408T170000
DTEND;TZID=America/New_York:20260408T180000
DTSTAMP:20260218T203732Z
URL:https://debtcollective.org/event/19914/
SUMMARY:Office Hours: Debtors in Default
DESCRIPTION:Join us as we discuss options for debtors with federal student 
 loans in default. We will cover options that require repayment\, like reha
 bilitation and consolidation\, as well as options that do not\, like loan 
 cancellation.\n\nFor debtors with federal student loans in default\, we DO
  NOT EXPECT that your tax refund will be seized to repay your student loan
  because of the temporary pause on forced collections that was announced
  in January of 2026. We will also provide information about free tax filin
 g resources from GetYour Refund.\nIf you haven’t filed your taxes yet\, 
 there may be unclaimed refunds and credits that belong to you. It’s ea
 sy to file to get your money! You can file online for free at getyourrefu
 nd.org/debtcollective.\nCan’t make it\, don’t worry we will have futu
 re Higher Ed Office Hour calls you can see here\, and consider registering
  to get a recap from the call and to be reminded of upcoming calls.\nMore 
 Information about GetYourRefund\, a Free Tax Prep Tool\nGetYourRefund is a
  free tax service that helps Americans with low- and moderate-incomes acce
 ss free\, trustworthy\, clarifying\, and high-quality tax preparation. Get
 YourRefund.org is the first-ever free mobile app that helps families compl
 ete government forms to access all their tax benefits.\n\nGetYourRefund is
  provided by the nonprofit Code for America in partnership with the IRS Vo
 lunteer Income Tax Assistance (VITA) program\, select state governments\, 
 and over 80 nonprofit partners. Our goal is to help ensure that everyone r
 eceives the cash benefits they deserve – including the $15 billion in fe
 deral tax benefits that governments are unable to distribute each year. We
 ’re making progress\, but we can’t do it alone. Since 2020\, GetYourR
 efund has helped 275\,000 people receive over $1.4 billion in tax benefits
 .\n\nIf you haven’t filed your taxes yet\, there may be unclaimed refund
 s and credits that belong to you. It’s easy to file to get your money
 ! You can file online for free at GetYourRefund.org.
CATEGORIES:Event
END:VEVENT
BEGIN:VTIMEZONE
TZID:America/New_York
X-LIC-LOCATION:America/New_York
BEGIN:DAYLIGHT
DTSTART:20260308T030000
TZOFFSETFROM:-0500
TZOFFSETTO:-0400
TZNAME:EDT
END:DAYLIGHT
END:VTIMEZONE
END:VCALENDAR