BEGIN:VCALENDAR
VERSION:2.0
PRODID:-//wp-events-plugin.com//7.2.3.1//EN
TZID:America/New_York
X-WR-TIMEZONE:America/New_York
BEGIN:VEVENT
UID:445@debtcollective.org
DTSTART;TZID=America/New_York:20250409T200000
DTEND;TZID=America/New_York:20250409T213000
DTSTAMP:20250401T161151Z
URL:https://debtcollective.org/event/100-days-care-not-criminalization/
SUMMARY:100 Days: Care\, not Criminalization
DESCRIPTION:\nAs ICE raids tear families apart and we face an escalating\, 
 carceral state criminalizing the most marginalized people in our country\,
  we must increasingly champion the abolitionist principles brought to the 
 national stage by the Black Lives Matter movement and stand in solidarity 
 with those at highest risk of being criminalized. This is of particular im
 portance in healthcare settings\, where clinicians have taken an oath to d
 o no harm to their patients\, yet are forced to interface with police and 
 increasingly ICE in their day-to-day work. How can healthcare workers upho
 ld their oath to do no harm in this increasingly hostile environment? How 
 can healthcare workers themselves stay safe as medical procedures and disc
 iplines are being criminalized? Is the law the moral code we think it is o
 r do we have values and principles to uphold that extend beyond the limits
  of the law?&nbsp\;\n\n\n\nJoin us on Wednesday\, April 9th at 8pm ET/ 5pm
  PT for Care\, not Criminalization\, a teach-in where we will hear from ou
 r very own Debt Collective organizer on the carceral system and carceral d
 ebt\, a lawyer from the Immigrant Legal Resource Center on our legal right
 s and&nbsp\; her work in Texas\, an inpatient psychiatrist on her perspect
 ives of the daily challenges in frontline clinical care\, and an Interrupt
 ing Criminalization fellow on frameworks and resources available to suppor
 t healthcare workers as they navigate this difficult terrain.&nbsp\;\n\n\n
 \n\n\n\n\nWe hope this event can support both patients and clinicians in f
 ighting for a world where providing and accessing healthcare is just that 
 - the simple act of giving and receiving care\, unencumbered by carceral\,
  racist\, and commercial forces. All are welcome to attend because all of 
 us have the potential to become sick one day and need care and protection 
 in our most vulnerable moments. See you soon!\n
CATEGORIES:Event
END:VEVENT
BEGIN:VTIMEZONE
TZID:America/New_York
X-LIC-LOCATION:America/New_York
BEGIN:DAYLIGHT
DTSTART:20250309T030000
TZOFFSETFROM:-0500
TZOFFSETTO:-0400
TZNAME:EDT
END:DAYLIGHT
END:VTIMEZONE
END:VCALENDAR